BEGIN:VCALENDAR
VERSION:2.0
PRODID:-//NetAuktion//NONSGML NetAuktion//SV
METHOD:PUBLISH
BEGIN:VEVENT
UID:20260421T104319-1476390564-netauktion.se
DTSTAMP:20260421T104319
DTSTART:20111031T013500
DTEND:20111031T013800
SUMMARY:Netauktion objekt 0670-039 Auktionspåminnelse
DESCRIPTION:Länk till objektet du var intresserad av: https://staging.netauktion.se/auktion/produkt/parti-tavlor-4
END:VEVENT
END:VCALENDAR
