BEGIN:VCALENDAR
VERSION:2.0
PRODID:-//NetAuktion//NONSGML NetAuktion//SV
METHOD:PUBLISH
BEGIN:VEVENT
UID:20260421T104356-1473699693-netauktion.se
DTSTAMP:20260421T104356
DTSTART:20111031T013600
DTEND:20111031T013900
SUMMARY:Netauktion objekt 0670-040 Auktionspåminnelse
DESCRIPTION:Länk till objektet du var intresserad av: https://staging.netauktion.se/auktion/produkt/skrotad-parti-tavlor
END:VEVENT
END:VCALENDAR
