BEGIN:VCALENDAR
VERSION:2.0
PRODID:-//NetAuktion//NONSGML NetAuktion//SV
METHOD:PUBLISH
BEGIN:VEVENT
UID:20260421T102637-47836757-netauktion.se
DTSTAMP:20260421T102637
DTSTART:20111031T014000
DTEND:20111031T014300
SUMMARY:Netauktion objekt 0670-042 Auktionspåminnelse
DESCRIPTION:Länk till objektet du var intresserad av: https://staging.netauktion.se/auktion/produkt/aldre-tavla-harald-sjogren-1903
END:VEVENT
END:VCALENDAR
