BEGIN:VCALENDAR
VERSION:2.0
PRODID:-//NetAuktion//NONSGML NetAuktion//SV
METHOD:PUBLISH
BEGIN:VEVENT
UID:20260421T103006-1260439731-netauktion.se
DTSTAMP:20260421T103006
DTSTART:20120531T021500
DTEND:20120531T021800
SUMMARY:Netauktion objekt 0854-011 Auktionspåminnelse
DESCRIPTION:Länk till objektet du var intresserad av: https://staging.netauktion.se/auktion/produkt/ljusmanschetter-och-servettringar
END:VEVENT
END:VCALENDAR
