BEGIN:VCALENDAR
VERSION:2.0
PRODID:-//NetAuktion//NONSGML NetAuktion//SV
METHOD:PUBLISH
BEGIN:VEVENT
UID:20260421T102853-1622674203-netauktion.se
DTSTAMP:20260421T102853
DTSTART:20111130T025800
DTEND:20111130T030100
SUMMARY:Netauktion objekt 0990-002 Auktionspåminnelse
DESCRIPTION:Länk till objektet du var intresserad av: https://staging.netauktion.se/auktion/produkt/fallbara-kladstallningar
END:VEVENT
END:VCALENDAR
