BEGIN:VCALENDAR
VERSION:2.0
PRODID:-//NetAuktion//NONSGML NetAuktion//SV
METHOD:PUBLISH
BEGIN:VEVENT
UID:20260421T103137-1335928900-netauktion.se
DTSTAMP:20260421T103137
DTSTART:20111230T012500
DTEND:20111230T012800
SUMMARY:Netauktion objekt 0980-015 Auktionspåminnelse
DESCRIPTION:Länk till objektet du var intresserad av: https://staging.netauktion.se/auktion/produkt/3st-par-skor-storlek-38-4
END:VEVENT
END:VCALENDAR
