BEGIN:VCALENDAR
VERSION:2.0
PRODID:-//NetAuktion//NONSGML NetAuktion//SV
METHOD:PUBLISH
BEGIN:VEVENT
UID:20260421T102934-1864285055-netauktion.se
DTSTAMP:20260421T102934
DTSTART:20121031T000600
DTEND:20121031T000900
SUMMARY:Netauktion objekt 0976-007 Auktionspåminnelse
DESCRIPTION:Länk till objektet du var intresserad av: https://staging.netauktion.se/auktion/produkt/portabelt-kassaregister
END:VEVENT
END:VCALENDAR
