BEGIN:VCALENDAR
VERSION:2.0
PRODID:-//NetAuktion//NONSGML NetAuktion//SV
METHOD:PUBLISH
BEGIN:VEVENT
UID:20260421T104445-1681710124-netauktion.se
DTSTAMP:20260421T104445
DTSTART:20121031T000900
DTEND:20121031T001200
SUMMARY:Netauktion objekt 0976-012 Auktionspåminnelse
DESCRIPTION:Länk till objektet du var intresserad av: https://staging.netauktion.se/auktion/produkt/frankeringsmaskin-neopost
END:VEVENT
END:VCALENDAR
