BEGIN:VCALENDAR
VERSION:2.0
PRODID:-//NetAuktion//NONSGML NetAuktion//SV
METHOD:PUBLISH
BEGIN:VEVENT
UID:20260421T103004-991377613-netauktion.se
DTSTAMP:20260421T103004
DTSTART:20111130T020400
DTEND:20111130T020700
SUMMARY:Netauktion objekt 0743-483 Auktionspåminnelse
DESCRIPTION:Länk till objektet du var intresserad av: https://staging.netauktion.se/auktion/produkt/64-radjursfigurer-agora-3
END:VEVENT
END:VCALENDAR
