BEGIN:VCALENDAR
VERSION:2.0
PRODID:-//NetAuktion//NONSGML NetAuktion//SV
METHOD:PUBLISH
BEGIN:VEVENT
UID:20260421T104432-1060736254-netauktion.se
DTSTAMP:20260421T104432
DTSTART:20111130T021300
DTEND:20111130T021600
SUMMARY:Netauktion objekt 0743-491 Auktionspåminnelse
DESCRIPTION:Länk till objektet du var intresserad av: https://staging.netauktion.se/auktion/produkt/945-matskedardessertskedar
END:VEVENT
END:VCALENDAR
