BEGIN:VCALENDAR
VERSION:2.0
PRODID:-//NetAuktion//NONSGML NetAuktion//SV
METHOD:PUBLISH
BEGIN:VEVENT
UID:20260421T102802-685105608-netauktion.se
DTSTAMP:20260421T102802
DTSTART:20111130T021600
DTEND:20111130T021900
SUMMARY:Netauktion objekt 0743-495 Auktionspåminnelse
DESCRIPTION:Länk till objektet du var intresserad av: https://staging.netauktion.se/auktion/produkt/500-runda-aluminiumformar
END:VEVENT
END:VCALENDAR
