BEGIN:VCALENDAR
VERSION:2.0
PRODID:-//NetAuktion//NONSGML NetAuktion//SV
METHOD:PUBLISH
BEGIN:VEVENT
UID:20260421T104303-953598981-netauktion.se
DTSTAMP:20260421T104303
DTSTART:20111130T021800
DTEND:20111130T022100
SUMMARY:Netauktion objekt 0743-497 Auktionspåminnelse
DESCRIPTION:Länk till objektet du var intresserad av: https://staging.netauktion.se/auktion/produkt/100-prydnadsdukar-pa-rulle-2
END:VEVENT
END:VCALENDAR
