BEGIN:VCALENDAR
VERSION:2.0
PRODID:-//NetAuktion//NONSGML NetAuktion//SV
METHOD:PUBLISH
BEGIN:VEVENT
UID:20260421T104444-371764695-netauktion.se
DTSTAMP:20260421T104444
DTSTART:20111130T022000
DTEND:20111130T022300
SUMMARY:Netauktion objekt 0743-499 Auktionspåminnelse
DESCRIPTION:Länk till objektet du var intresserad av: https://staging.netauktion.se/auktion/produkt/432-bestick-2
END:VEVENT
END:VCALENDAR
