BEGIN:VCALENDAR
VERSION:2.0
PRODID:-//NetAuktion//NONSGML NetAuktion//SV
METHOD:PUBLISH
BEGIN:VEVENT
UID:20260421T104356-701593767-netauktion.se
DTSTAMP:20260421T104356
DTSTART:20111130T022200
DTEND:20111130T022500
SUMMARY:Netauktion objekt 0743-501 Auktionspåminnelse
DESCRIPTION:Länk till objektet du var intresserad av: https://staging.netauktion.se/auktion/produkt/900-virkade-dukar-2
END:VEVENT
END:VCALENDAR
