BEGIN:VCALENDAR
VERSION:2.0
PRODID:-//NetAuktion//NONSGML NetAuktion//SV
METHOD:PUBLISH
BEGIN:VEVENT
UID:20260421T104457-1067640210-netauktion.se
DTSTAMP:20260421T104457
DTSTART:20111130T022600
DTEND:20111130T022900
SUMMARY:Netauktion objekt 0743-504 Auktionspåminnelse
DESCRIPTION:Länk till objektet du var intresserad av: https://staging.netauktion.se/auktion/produkt/129-2-pack-aggkokare-for-mikro
END:VEVENT
END:VCALENDAR
