BEGIN:VCALENDAR
VERSION:2.0
PRODID:-//NetAuktion//NONSGML NetAuktion//SV
METHOD:PUBLISH
BEGIN:VEVENT
UID:20260421T102852-1942666773-netauktion.se
DTSTAMP:20260421T102852
DTSTART:20111130T022600
DTEND:20111130T022900
SUMMARY:Netauktion objekt 0743-505 Auktionspåminnelse
DESCRIPTION:Länk till objektet du var intresserad av: https://staging.netauktion.se/auktion/produkt/48-tekannor-19-forvaringsburkar-3
END:VEVENT
END:VCALENDAR
