BEGIN:VCALENDAR
VERSION:2.0
PRODID:-//NetAuktion//NONSGML NetAuktion//SV
METHOD:PUBLISH
BEGIN:VEVENT
UID:20260421T104534-1492504690-netauktion.se
DTSTAMP:20260421T104534
DTSTART:20111229T033000
DTEND:20111229T033300
SUMMARY:Netauktion objekt 1013-006 Auktionspåminnelse
DESCRIPTION:Länk till objektet du var intresserad av: https://staging.netauktion.se/auktion/produkt/hornsoffa-fran-martela
END:VEVENT
END:VCALENDAR
