BEGIN:VCALENDAR
VERSION:2.0
PRODID:-//NetAuktion//NONSGML NetAuktion//SV
METHOD:PUBLISH
BEGIN:VEVENT
UID:20260421T102743-668885380-netauktion.se
DTSTAMP:20260421T102743
DTSTART:20111229T033700
DTEND:20111229T034000
SUMMARY:Netauktion objekt 1013-062 Auktionspåminnelse
DESCRIPTION:Länk till objektet du var intresserad av: https://staging.netauktion.se/auktion/produkt/arbetsstol-fran-kinnarps-3
END:VEVENT
END:VCALENDAR
