BEGIN:VCALENDAR
VERSION:2.0
PRODID:-//NetAuktion//NONSGML NetAuktion//SV
METHOD:PUBLISH
BEGIN:VEVENT
UID:20260421T104530-155098613-netauktion.se
DTSTAMP:20260421T104530
DTSTART:20111229T031500
DTEND:20111229T031800
SUMMARY:Netauktion objekt 1013-064 Auktionspåminnelse
DESCRIPTION:Länk till objektet du var intresserad av: https://staging.netauktion.se/auktion/produkt/arbetsstol-fran-kinnarps-5
END:VEVENT
END:VCALENDAR
