BEGIN:VCALENDAR
VERSION:2.0
PRODID:-//NetAuktion//NONSGML NetAuktion//SV
METHOD:PUBLISH
BEGIN:VEVENT
UID:20260421T104605-349855149-netauktion.se
DTSTAMP:20260421T104605
DTSTART:20111230T011000
DTEND:20111230T011300
SUMMARY:Netauktion objekt 0947-014 Auktionspåminnelse
DESCRIPTION:Länk till objektet du var intresserad av: https://staging.netauktion.se/auktion/produkt/spinningcykel-schwinn-evolution2
END:VEVENT
END:VCALENDAR
