BEGIN:VCALENDAR
VERSION:2.0
PRODID:-//NetAuktion//NONSGML NetAuktion//SV
METHOD:PUBLISH
BEGIN:VEVENT
UID:20260421T104440-1575087162-netauktion.se
DTSTAMP:20260421T104440
DTSTART:20111230T010800
DTEND:20111230T011100
SUMMARY:Netauktion objekt 0947-018 Auktionspåminnelse
DESCRIPTION:Länk till objektet du var intresserad av: https://staging.netauktion.se/auktion/produkt/spinningcykel-schwinn5
END:VEVENT
END:VCALENDAR
