BEGIN:VCALENDAR
VERSION:2.0
PRODID:-//NetAuktion//NONSGML NetAuktion//SV
METHOD:PUBLISH
BEGIN:VEVENT
UID:20260421T104434-1494515489-netauktion.se
DTSTAMP:20260421T104434
DTSTART:20111230T010900
DTEND:20111230T011200
SUMMARY:Netauktion objekt 0947-019 Auktionspåminnelse
DESCRIPTION:Länk till objektet du var intresserad av: https://staging.netauktion.se/auktion/produkt/spinningcykel-schwinn6
END:VEVENT
END:VCALENDAR
