BEGIN:VCALENDAR
VERSION:2.0
PRODID:-//NetAuktion//NONSGML NetAuktion//SV
METHOD:PUBLISH
BEGIN:VEVENT
UID:20260421T104310-1921455524-netauktion.se
DTSTAMP:20260421T104310
DTSTART:20090227T013700
DTEND:20090227T014000
SUMMARY:Netauktion objekt 0125-217 Auktionspåminnelse
DESCRIPTION:Länk till objektet du var intresserad av: https://staging.netauktion.se/auktion/produkt/storre-parti-floristdekorationer
END:VEVENT
END:VCALENDAR
