BEGIN:VCALENDAR
VERSION:2.0
PRODID:-//NetAuktion//NONSGML NetAuktion//SV
METHOD:PUBLISH
BEGIN:VEVENT
UID:20260421T104458-534508461-netauktion.se
DTSTAMP:20260421T104458
DTSTART:20140130T012800
DTEND:20140130T013100
SUMMARY:Netauktion objekt 1084-080 Auktionspåminnelse
DESCRIPTION:Länk till objektet du var intresserad av: https://staging.netauktion.se/auktion/produkt/vakuumslangar
END:VEVENT
END:VCALENDAR
