BEGIN:VCALENDAR
VERSION:2.0
PRODID:-//NetAuktion//NONSGML NetAuktion//SV
METHOD:PUBLISH
BEGIN:VEVENT
UID:20260421T104305-1201847666-netauktion.se
DTSTAMP:20260421T104305
DTSTART:20080523T010700
DTEND:20080523T011000
SUMMARY:Netauktion objekt 0016-024 Auktionspåminnelse
DESCRIPTION:Länk till objektet du var intresserad av: https://staging.netauktion.se/auktion/produkt/gymnastikutrustning-mm
END:VEVENT
END:VCALENDAR
