BEGIN:VCALENDAR
VERSION:2.0
PRODID:-//NetAuktion//NONSGML NetAuktion//SV
METHOD:PUBLISH
BEGIN:VEVENT
UID:20260421T104621-1405865165-netauktion.se
DTSTAMP:20260421T104621
DTSTART:20120330T010100
DTEND:20120330T010400
SUMMARY:Netauktion objekt 1086-002 Auktionspåminnelse
DESCRIPTION:Länk till objektet du var intresserad av: https://staging.netauktion.se/auktion/produkt/6st-stalvagnar
END:VEVENT
END:VCALENDAR
