BEGIN:VCALENDAR
VERSION:2.0
PRODID:-//NetAuktion//NONSGML NetAuktion//SV
METHOD:PUBLISH
BEGIN:VEVENT
UID:20260421T104447-1598642492-netauktion.se
DTSTAMP:20260421T104447
DTSTART:20120330T011400
DTEND:20120330T011700
SUMMARY:Netauktion objekt 1086-015 Auktionspåminnelse
DESCRIPTION:Länk till objektet du var intresserad av: https://staging.netauktion.se/auktion/produkt/datorpaket-1-3
END:VEVENT
END:VCALENDAR
