BEGIN:VCALENDAR
VERSION:2.0
PRODID:-//NetAuktion//NONSGML NetAuktion//SV
METHOD:PUBLISH
BEGIN:VEVENT
UID:20260421T102855-2072904747-netauktion.se
DTSTAMP:20260421T102855
DTSTART:20120328T035500
DTEND:20120328T035800
SUMMARY:Netauktion objekt 1092-107 Auktionspåminnelse
DESCRIPTION:Länk till objektet du var intresserad av: https://staging.netauktion.se/auktion/produkt/kablar-och-elcentral
END:VEVENT
END:VCALENDAR
