BEGIN:VCALENDAR
VERSION:2.0
PRODID:-//NetAuktion//NONSGML NetAuktion//SV
METHOD:PUBLISH
BEGIN:VEVENT
UID:20260421T102838-1399806874-netauktion.se
DTSTAMP:20260421T102838
DTSTART:20120330T005800
DTEND:20120330T010100
SUMMARY:Netauktion objekt 1092-112 Auktionspåminnelse
DESCRIPTION:Länk till objektet du var intresserad av: https://staging.netauktion.se/auktion/produkt/vw-caddy-19-tdi-skap-07-jwz063
END:VEVENT
END:VCALENDAR
