BEGIN:VCALENDAR
VERSION:2.0
PRODID:-//NetAuktion//NONSGML NetAuktion//SV
METHOD:PUBLISH
BEGIN:VEVENT
UID:20260421T104431-183648693-netauktion.se
DTSTAMP:20260421T104431
DTSTART:20120328T040200
DTEND:20120328T040500
SUMMARY:Netauktion objekt 1092-110 Auktionspåminnelse
DESCRIPTION:Länk till objektet du var intresserad av: https://staging.netauktion.se/auktion/produkt/parti-ventilationsror-mm
END:VEVENT
END:VCALENDAR
