BEGIN:VCALENDAR
VERSION:2.0
PRODID:-//NetAuktion//NONSGML NetAuktion//SV
METHOD:PUBLISH
BEGIN:VEVENT
UID:20260421T104441-2057613080-netauktion.se
DTSTAMP:20260421T104441
DTSTART:20120328T040100
DTEND:20120328T040400
SUMMARY:Netauktion objekt 1092-121 Auktionspåminnelse
DESCRIPTION:Länk till objektet du var intresserad av: https://staging.netauktion.se/auktion/produkt/velux-fonsterramar-5st
END:VEVENT
END:VCALENDAR
