BEGIN:VCALENDAR
VERSION:2.0
PRODID:-//NetAuktion//NONSGML NetAuktion//SV
METHOD:PUBLISH
BEGIN:VEVENT
UID:20260421T104616-552147318-netauktion.se
DTSTAMP:20260421T104616
DTSTART:20120328T034800
DTEND:20120328T035100
SUMMARY:Netauktion objekt 1092-136 Auktionspåminnelse
DESCRIPTION:Länk till objektet du var intresserad av: https://staging.netauktion.se/auktion/produkt/palldragare-21
END:VEVENT
END:VCALENDAR
