BEGIN:VCALENDAR
VERSION:2.0
PRODID:-//NetAuktion//NONSGML NetAuktion//SV
METHOD:PUBLISH
BEGIN:VEVENT
UID:20260421T102707-437254015-netauktion.se
DTSTAMP:20260421T102707
DTSTART:20080620T030300
DTEND:20080620T030600
SUMMARY:Netauktion objekt 0032-001 Auktionspåminnelse
DESCRIPTION:Länk till objektet du var intresserad av: https://staging.netauktion.se/auktion/produkt/gron-arbetsvagn
END:VEVENT
END:VCALENDAR
