BEGIN:VCALENDAR
VERSION:2.0
PRODID:-//NetAuktion//NONSGML NetAuktion//SV
METHOD:PUBLISH
BEGIN:VEVENT
UID:20260421T102706-1885795971-netauktion.se
DTSTAMP:20260421T102706
DTSTART:20120430T032000
DTEND:20120430T032300
SUMMARY:Netauktion objekt 1108-004 Auktionspåminnelse
DESCRIPTION:Länk till objektet du var intresserad av: https://staging.netauktion.se/auktion/produkt/tv-samsung-37-tum
END:VEVENT
END:VCALENDAR
