BEGIN:VCALENDAR
VERSION:2.0
PRODID:-//NetAuktion//NONSGML NetAuktion//SV
METHOD:PUBLISH
BEGIN:VEVENT
UID:20260421T104324-159314436-netauktion.se
DTSTAMP:20260421T104324
DTSTART:20120430T032900
DTEND:20120430T033200
SUMMARY:Netauktion objekt 1108-012 Auktionspåminnelse
DESCRIPTION:Länk till objektet du var intresserad av: https://staging.netauktion.se/auktion/produkt/koksbankar-med-ekbankskiva
END:VEVENT
END:VCALENDAR
