BEGIN:VCALENDAR
VERSION:2.0
PRODID:-//NetAuktion//NONSGML NetAuktion//SV
METHOD:PUBLISH
BEGIN:VEVENT
UID:20260421T104303-653117422-netauktion.se
DTSTAMP:20260421T104303
DTSTART:20120430T031300
DTEND:20120430T031600
SUMMARY:Netauktion objekt 1108-015 Auktionspåminnelse
DESCRIPTION:Länk till objektet du var intresserad av: https://staging.netauktion.se/auktion/produkt/kaffekvarn-bunn-g2a-hd
END:VEVENT
END:VCALENDAR
