BEGIN:VCALENDAR
VERSION:2.0
PRODID:-//NetAuktion//NONSGML NetAuktion//SV
METHOD:PUBLISH
BEGIN:VEVENT
UID:20260421T102747-1550961182-netauktion.se
DTSTAMP:20260421T102747
DTSTART:20120430T034000
DTEND:20120430T034300
SUMMARY:Netauktion objekt 1105-004 Auktionspåminnelse
DESCRIPTION:Länk till objektet du var intresserad av: https://staging.netauktion.se/auktion/produkt/branddorr-ca-72cm
END:VEVENT
END:VCALENDAR
