BEGIN:VCALENDAR
VERSION:2.0
PRODID:-//NetAuktion//NONSGML NetAuktion//SV
METHOD:PUBLISH
BEGIN:VEVENT
UID:20260421T104308-677123876-netauktion.se
DTSTAMP:20260421T104308
DTSTART:20120430T031900
DTEND:20120430T032200
SUMMARY:Netauktion objekt 1108-034 Auktionspåminnelse
DESCRIPTION:Länk till objektet du var intresserad av: https://staging.netauktion.se/auktion/produkt/glassvafflor-bagare-mm
END:VEVENT
END:VCALENDAR
