BEGIN:VCALENDAR
VERSION:2.0
PRODID:-//NetAuktion//NONSGML NetAuktion//SV
METHOD:PUBLISH
BEGIN:VEVENT
UID:20260421T102705-1448710824-netauktion.se
DTSTAMP:20260421T102705
DTSTART:20120430T034100
DTEND:20120430T034400
SUMMARY:Netauktion objekt 1105-005 Auktionspåminnelse
DESCRIPTION:Länk till objektet du var intresserad av: https://staging.netauktion.se/auktion/produkt/sakerhetsdorr-ca-92cm-3
END:VEVENT
END:VCALENDAR
