BEGIN:VCALENDAR
VERSION:2.0
PRODID:-//NetAuktion//NONSGML NetAuktion//SV
METHOD:PUBLISH
BEGIN:VEVENT
UID:20260421T102705-360165022-netauktion.se
DTSTAMP:20260421T102705
DTSTART:20090930T025900
DTEND:20090930T030200
SUMMARY:Netauktion objekt 0017-081 Auktionspåminnelse
DESCRIPTION:Länk till objektet du var intresserad av: https://staging.netauktion.se/auktion/produkt/gangsnittshallare-for-svarv-m3-m10-11
END:VEVENT
END:VCALENDAR
