BEGIN:VCALENDAR
VERSION:2.0
PRODID:-//NetAuktion//NONSGML NetAuktion//SV
METHOD:PUBLISH
BEGIN:VEVENT
UID:20260421T102745-1632574239-netauktion.se
DTSTAMP:20260421T102745
DTSTART:20120525T022000
DTEND:20120525T022300
SUMMARY:Netauktion objekt 1121-002 Auktionspåminnelse
DESCRIPTION:Länk till objektet du var intresserad av: https://staging.netauktion.se/auktion/produkt/verktygsskap-med-elmaterial-mm-norema
END:VEVENT
END:VCALENDAR
