BEGIN:VCALENDAR
VERSION:2.0
PRODID:-//NetAuktion//NONSGML NetAuktion//SV
METHOD:PUBLISH
BEGIN:VEVENT
UID:20260421T102839-1098419780-netauktion.se
DTSTAMP:20260421T102839
DTSTART:20120523T031800
DTEND:20120523T032100
SUMMARY:Netauktion objekt 1125-028 Auktionspåminnelse
DESCRIPTION:Länk till objektet du var intresserad av: https://staging.netauktion.se/auktion/produkt/arbetsbankar-plahyllor-mm
END:VEVENT
END:VCALENDAR
