BEGIN:VCALENDAR
VERSION:2.0
PRODID:-//NetAuktion//NONSGML NetAuktion//SV
METHOD:PUBLISH
BEGIN:VEVENT
UID:20260421T102744-73432870-netauktion.se
DTSTAMP:20260421T102744
DTSTART:20120525T021400
DTEND:20120525T021700
SUMMARY:Netauktion objekt 1121-011 Auktionspåminnelse
DESCRIPTION:Länk till objektet du var intresserad av: https://staging.netauktion.se/auktion/produkt/vagn-med-sortimentfack
END:VEVENT
END:VCALENDAR
