BEGIN:VCALENDAR
VERSION:2.0
PRODID:-//NetAuktion//NONSGML NetAuktion//SV
METHOD:PUBLISH
BEGIN:VEVENT
UID:20260421T104319-50594180-netauktion.se
DTSTAMP:20260421T104319
DTSTART:20120525T022700
DTEND:20120525T023000
SUMMARY:Netauktion objekt 1121-015 Auktionspåminnelse
DESCRIPTION:Länk till objektet du var intresserad av: https://staging.netauktion.se/auktion/produkt/nederman-slangvindor-luft-el-1
END:VEVENT
END:VCALENDAR
