BEGIN:VCALENDAR
VERSION:2.0
PRODID:-//NetAuktion//NONSGML NetAuktion//SV
METHOD:PUBLISH
BEGIN:VEVENT
UID:20260421T102802-148040550-netauktion.se
DTSTAMP:20260421T102802
DTSTART:20120525T023300
DTEND:20120525T023600
SUMMARY:Netauktion objekt 1121-019 Auktionspåminnelse
DESCRIPTION:Länk till objektet du var intresserad av: https://staging.netauktion.se/auktion/produkt/nederman-slangvindor-luft-el-5
END:VEVENT
END:VCALENDAR
