BEGIN:VCALENDAR
VERSION:2.0
PRODID:-//NetAuktion//NONSGML NetAuktion//SV
METHOD:PUBLISH
BEGIN:VEVENT
UID:20260421T102746-171487371-netauktion.se
DTSTAMP:20260421T102746
DTSTART:20120525T013500
DTEND:20120525T013800
SUMMARY:Netauktion objekt 1121-045 Auktionspåminnelse
DESCRIPTION:Länk till objektet du var intresserad av: https://staging.netauktion.se/auktion/produkt/garagedomkraft-mm-2
END:VEVENT
END:VCALENDAR
