BEGIN:VCALENDAR
VERSION:2.0
PRODID:-//NetAuktion//NONSGML NetAuktion//SV
METHOD:PUBLISH
BEGIN:VEVENT
UID:20260421T104308-1608566307-netauktion.se
DTSTAMP:20260421T104308
DTSTART:20120525T030000
DTEND:20120525T030300
SUMMARY:Netauktion objekt 1121-046 Auktionspåminnelse
DESCRIPTION:Länk till objektet du var intresserad av: https://staging.netauktion.se/auktion/produkt/verkstadsarbetsplats-2
END:VEVENT
END:VCALENDAR
