BEGIN:VCALENDAR
VERSION:2.0
PRODID:-//NetAuktion//NONSGML NetAuktion//SV
METHOD:PUBLISH
BEGIN:VEVENT
UID:20260421T104359-1434966933-netauktion.se
DTSTAMP:20260421T104359
DTSTART:20120525T021600
DTEND:20120525T021900
SUMMARY:Netauktion objekt 1121-056 Auktionspåminnelse
DESCRIPTION:Länk till objektet du var intresserad av: https://staging.netauktion.se/auktion/produkt/derendinger-bromsvatskebytare
END:VEVENT
END:VCALENDAR
