BEGIN:VCALENDAR
VERSION:2.0
PRODID:-//NetAuktion//NONSGML NetAuktion//SV
METHOD:PUBLISH
BEGIN:VEVENT
UID:20260421T104317-1596501616-netauktion.se
DTSTAMP:20260421T104317
DTSTART:20120525T023900
DTEND:20120525T024200
SUMMARY:Netauktion objekt 1121-059 Auktionspåminnelse
DESCRIPTION:Länk till objektet du var intresserad av: https://staging.netauktion.se/auktion/produkt/hojdritsmatt-mahr-mm
END:VEVENT
END:VCALENDAR
