BEGIN:VCALENDAR
VERSION:2.0
PRODID:-//NetAuktion//NONSGML NetAuktion//SV
METHOD:PUBLISH
BEGIN:VEVENT
UID:20260421T104535-479504763-netauktion.se
DTSTAMP:20260421T104535
DTSTART:20120525T021200
DTEND:20120525T021500
SUMMARY:Netauktion objekt 1121-070 Auktionspåminnelse
DESCRIPTION:Länk till objektet du var intresserad av: https://staging.netauktion.se/auktion/produkt/reservdelstvatt-masterclean
END:VEVENT
END:VCALENDAR
